BEGIN:VCALENDAR
VERSION:2.0
PRODID:-//Ozcan Ates - ECPv6.15.14//NONSGML v1.0//EN
CALSCALE:GREGORIAN
METHOD:PUBLISH
X-WR-CALNAME:Ozcan Ates
X-ORIGINAL-URL:https://ozcanates.com
X-WR-CALDESC:Events for Ozcan Ates
REFRESH-INTERVAL;VALUE=DURATION:PT1H
X-Robots-Tag:noindex
X-PUBLISHED-TTL:PT1H
BEGIN:VTIMEZONE
TZID:UTC
BEGIN:STANDARD
TZOFFSETFROM:+0000
TZOFFSETTO:+0000
TZNAME:UTC
DTSTART:20250101T000000
END:STANDARD
END:VTIMEZONE
BEGIN:VEVENT
DTSTART;TZID=UTC:20260416T193000
DTEND;TZID=UTC:20260416T213000
DTSTAMP:20260421T143729
CREATED:20260312T114823Z
LAST-MODIFIED:20260312T114823Z
UID:1458-1776367800-1776375000@ozcanates.com
SUMMARY:Ozcan Ates and Charlie Groves
DESCRIPTION:About the show\nWe’re really excited about this one. Turkish-born Ozcan Ates is a rare master of the baglama\, a long-necked lute central to Turkish and Kurdish folk traditions\, as well as an accomplished singer. \nHe has performed across the UK\, and is a key member of Dovetail Orchestra\, Bristol’s creative music group for refugees & asylum-seekers. His music blends traditional Turkish and Kurdish folk songs\, Anatolian melodies\, and his own compositions. \n“A unique voice in the UK’s folk landscape\, Ates invites audiences into a musical world both ancient and deeply personal” (Bristol Beacon). \nTonight he’ll be performing with acoustic guitarist\, and member of Bristol Ensemble\, Charlie Groves.
URL:https://ozcanates.com/event/ozcan-ates-and-charlie-groves/
LOCATION:El Rincon\, 298 North Street Bedminster\, Bristol\, BS3 1JU\, United Kingdom
END:VEVENT
END:VCALENDAR