BEGIN:VCALENDAR
VERSION:2.0
PRODID:-//Ozcan Ates - ECPv6.15.14//NONSGML v1.0//EN
CALSCALE:GREGORIAN
METHOD:PUBLISH
X-ORIGINAL-URL:https://ozcanates.com
X-WR-CALDESC:Events for Ozcan Ates
REFRESH-INTERVAL;VALUE=DURATION:PT1H
X-Robots-Tag:noindex
X-PUBLISHED-TTL:PT1H
BEGIN:VTIMEZONE
TZID:UTC
BEGIN:STANDARD
TZOFFSETFROM:+0000
TZOFFSETTO:+0000
TZNAME:UTC
DTSTART:20250101T000000
END:STANDARD
END:VTIMEZONE
BEGIN:VEVENT
DTSTART;TZID=UTC:20260613T190000
DTEND;TZID=UTC:20260613T213000
DTSTAMP:20260420T045107
CREATED:20251019T100107Z
LAST-MODIFIED:20251019T160343Z
UID:1148-1781377200-1781386200@ozcanates.com
SUMMARY:Calstock Festival - Ozcan ATES & Eastern Strings
DESCRIPTION:Calstock Arts Festival \nEastern Strings and Ozcan Ates \nA tapestry of Turkish and Kurdish songs featuring baglama master and superb vocalist Ozcan Ates. Also included in the set are special arrangements of Ladino pieces translated by Ozcan and Eastern Strings compositions. \nDaphna Sadeh-Neu is a top class double bassist and composer. She has released 4 CD’s on major UK and US labels (including the Tzasik label by John Zorn) and has received commissions to compose for both small ensembles and full orchestra in a style that crosses genres including jazz\, world music and Baroque. Daphna has performed internationally in Europe\,Asia and the USA. \n​ \nKnud Stüwe is fast establishing himself as a unique and brilliant voice on the oud. He also is a composer and arranger. His recent collaboration with the Ligeti Quartet led to a sold out concert at St.Georges Bristol (..”the Ligeti quartet found brilliant collaborators in Knud Stüwe and Ali Elmubarak..” David Harrington founder of the Kronos Quartet). \n 
URL:https://ozcanates.com/event/calstock-arts-festival-ozcan-ates-eastern-strings/
LOCATION:Calstock\, Calstock Arts\, The Old Chapel\, Sand Lane\, Calstock\, Calstock\, PL18 9QX
ORGANIZER;CN="Calstock Arts":MAILTO:mail@calstockarts.org
END:VEVENT
END:VCALENDAR