BEGIN:VCALENDAR
VERSION:2.0
PRODID:-//Ozcan Ates - ECPv6.15.14//NONSGML v1.0//EN
CALSCALE:GREGORIAN
METHOD:PUBLISH
X-ORIGINAL-URL:https://ozcanates.com
X-WR-CALDESC:Events for Ozcan Ates
REFRESH-INTERVAL;VALUE=DURATION:PT1H
X-Robots-Tag:noindex
X-PUBLISHED-TTL:PT1H
BEGIN:VTIMEZONE
TZID:UTC
BEGIN:STANDARD
TZOFFSETFROM:+0000
TZOFFSETTO:+0000
TZNAME:UTC
DTSTART:20250101T000000
END:STANDARD
END:VTIMEZONE
BEGIN:VEVENT
DTSTART;TZID=UTC:20261127T183000
DTEND;TZID=UTC:20261127T213000
DTSTAMP:20260421T204848
CREATED:20251019T093509Z
LAST-MODIFIED:20251019T115219Z
UID:1141-1795804200-1795815000@ozcanates.com
SUMMARY:Cotham Parish Church
DESCRIPTION:Ozcan ATES Baglama – Vocal\nAlex Goodyear Drum Kit\nCharlie Groves Acoustic Guitar\nHarry Bassett Trumpet\nLiam Bass Guitar\nPerformance times \nDoors: 18.30\nStart: 19.00\nFinish: 21.20 \nAll timings are approximate and subject to change
URL:https://ozcanates.com/event/cotham-paris-church/
LOCATION:Cotham Paris Church\, Cotham Parish Church Cotham Road\, Bristol\, BS6 6DR\, United Kingdom
ORGANIZER;CN="Cotham Paris Church":MAILTO:highburypartnership@gmail.com
END:VEVENT
END:VCALENDAR