BEGIN:VCALENDAR
VERSION:2.0
PRODID:-//Ozcan Ates - ECPv6.15.14//NONSGML v1.0//EN
CALSCALE:GREGORIAN
METHOD:PUBLISH
X-WR-CALNAME:Ozcan Ates
X-ORIGINAL-URL:https://ozcanates.com
X-WR-CALDESC:Events for Ozcan Ates
REFRESH-INTERVAL;VALUE=DURATION:PT1H
X-Robots-Tag:noindex
X-PUBLISHED-TTL:PT1H
BEGIN:VTIMEZONE
TZID:UTC
BEGIN:STANDARD
TZOFFSETFROM:+0000
TZOFFSETTO:+0000
TZNAME:UTC
DTSTART:20240101T000000
END:STANDARD
END:VTIMEZONE
BEGIN:VEVENT
DTSTART;TZID=UTC:20251104T190000
DTEND;TZID=UTC:20251104T213000
DTSTAMP:20260421T192448
CREATED:20251102T213723Z
LAST-MODIFIED:20251102T214024Z
UID:1391-1762282800-1762291800@ozcanates.com
SUMMARY:Dovetail Orchestra
DESCRIPTION:
URL:https://ozcanates.com/event/dovetail-autumn-gig/
LOCATION:St. Ambrose Church\, 7 Stretford Ave\, Whitehall\, Bristol\, BS5 7An
ORGANIZER;CN="Dovetail Orchestra":MAILTO:hello@dovetailorchestra.org.uk
END:VEVENT
BEGIN:VEVENT
DTSTART;TZID=UTC:20251125T193000
DTEND;TZID=UTC:20251125T213000
DTSTAMP:20260421T192448
CREATED:20251102T214917Z
LAST-MODIFIED:20251103T212351Z
UID:1398-1764099000-1764106200@ozcanates.com
SUMMARY:Dovetail Orchestra Trinity
DESCRIPTION:
URL:https://ozcanates.com/event/dovetail-orchestra-trinity/
LOCATION:Trinity Centre\, Trinity Road\, Bristol\, BS5 7An
END:VEVENT
END:VCALENDAR